BEGIN:VCALENDAR
VERSION:2.0
PRODID:-//YMCA - Southwestern New Brunswick - ECPv6.15.20//NONSGML v1.0//EN
CALSCALE:GREGORIAN
METHOD:PUBLISH
X-ORIGINAL-URL:https://swnb.ymca.ca
X-WR-CALDESC:Events for YMCA - Southwestern New Brunswick
REFRESH-INTERVAL;VALUE=DURATION:PT1H
X-Robots-Tag:noindex
X-PUBLISHED-TTL:PT1H
BEGIN:VTIMEZONE
TZID:America/Sao_Paulo
BEGIN:STANDARD
TZOFFSETFROM:-0300
TZOFFSETTO:-0300
TZNAME:-03
DTSTART:20240101T000000
END:STANDARD
END:VTIMEZONE
BEGIN:VEVENT
DTSTART;VALUE=DATE:20251204
DTEND;VALUE=DATE:20251205
DTSTAMP:20260420T174554
CREATED:20251125T173541Z
LAST-MODIFIED:20251125T174217Z
UID:10000041-1764806400-1764892799@swnb.ymca.ca
SUMMARY:I&O-Staying Safe in Winter
DESCRIPTION:I&O-Staying Safe in Winter \nJoin us for an informative session on how to stay safe throughout the winter season in New Brunswick. We’ll cover essential topics such as winter driving\, preparing your home and vehicle\, common winter hazards\, and tips for staying healthy. This is a great opportunity to ask any questions you may have about navigating winter safely. \nDate: Thursday\, December 4\, 2025 \nSession Times (In Person – Saint John Regional Y – Classroom 8/9) : \n\n\n11:00 AM – 12:00 PM \n\n\n2:00 PM – 3:00 PM \n\n\n5:45 PM – 6:45 PM ( In person + Online via Zoom)\n\nThe sessions are free and open to everyone\, irrespective of their immigration status. \n\n\nOnline Session Registration:Register for the Zoom session
URL:https://swnb.ymca.ca/event/io-staying-safe-in-winter/
LOCATION:Saint John Regional Y – YMCA of Southwestern New Brunswick\, 191 Churchill Blvd\, Saint John\, New Brunswick\, E2K 3E2\, Canada
ATTACH;FMTTYPE=image/jpeg:https://swnb.ymca.ca/wp-content/uploads/2025/03/NewsFillerImage_whiteY-2.jpg
END:VEVENT
BEGIN:VEVENT
DTSTART;VALUE=DATE:20251204
DTEND;VALUE=DATE:20251205
DTSTAMP:20260420T174554
CREATED:20251128T172439Z
LAST-MODIFIED:20251128T172439Z
UID:10000048-1764806400-1764892799@swnb.ymca.ca
SUMMARY:I & O: Staying Safe in Winter
DESCRIPTION:I & O: Staying Safe in Winter \nWinters in Canada can be beautiful\, but they also come with their challenges. ❄️ \nJoin us to learn practical tips on winter driving\, preparing your home and car\, spotting hazards\, and staying healthy during the cold season.\n📅 Thursday\, December 4th\, 2025\n\n\n11AM – 12:00 PM: In-person\, Saint john Regional Y\, Classroom 8/9\n\n\n2:00 PM – 3:00 PM: In-person\, Saint john Regional Y\, Classroom 8/9\n\n\n5:45 PM – 6:45 PM: In-person (Saint john Regional Y) & online via Zoom \nAll information and orientation sessions are free and open to everyone\, regardless of immigration status.\nRegister Now!
URL:https://swnb.ymca.ca/event/i-o-staying-safe-in-winter/
LOCATION:Saint John Regional Y – YMCA of Southwestern New Brunswick\, 191 Churchill Blvd\, Saint John\, New Brunswick\, E2K 3E2\, Canada
ATTACH;FMTTYPE=image/jpeg:https://swnb.ymca.ca/wp-content/uploads/2025/03/NewsFillerImage_whiteY-2.jpg
END:VEVENT
BEGIN:VEVENT
DTSTART;TZID=America/Sao_Paulo:20251219T100000
DTEND;TZID=America/Sao_Paulo:20251219T130000
DTSTAMP:20260420T174554
CREATED:20251128T180330Z
LAST-MODIFIED:20251211T144750Z
UID:10000050-1766138400-1766149200@swnb.ymca.ca
SUMMARY:Community event: Holiday Potluck Event
DESCRIPTION:Community event: Holiday Potluck Event \nCelebrate the season with delicious food\, vibrant performances\, and festive fun. Bring a nut-free dish from your culture\, sample flavors from around the globe\, and share stories while connecting with amazing people in the community. \n📅 Friday\, December 19 | 10:00 AM – 1:00 PM📍 Kent Theater\, 24 Coburg St\, Saint John💌 Everyone is welcome \nLimited spots available — register now and be part of this holiday celebration! \nRegister Now\n\nQuestions:  Contact Settlement Trainers team at settlementtrainers@saintjohny.ca \n 
URL:https://swnb.ymca.ca/event/community-event-holiday-potluck-event/
LOCATION:Kent Theatre\, 24 Coburg St\, Saint John\, NB\, E2L 3J5\, Canada
ATTACH;FMTTYPE=image/jpeg:https://swnb.ymca.ca/wp-content/uploads/2025/03/NewsFillerImage_whiteY-2.jpg
END:VEVENT
END:VCALENDAR