BEGIN:VCALENDAR
VERSION:2.0
PRODID:-//YMCA - Southwestern New Brunswick - ECPv6.15.20//NONSGML v1.0//EN
CALSCALE:GREGORIAN
METHOD:PUBLISH
X-ORIGINAL-URL:https://swnb.ymca.ca
X-WR-CALDESC:Events for YMCA - Southwestern New Brunswick
REFRESH-INTERVAL;VALUE=DURATION:PT1H
X-Robots-Tag:noindex
X-PUBLISHED-TTL:PT1H
BEGIN:VTIMEZONE
TZID:America/Sao_Paulo
BEGIN:STANDARD
TZOFFSETFROM:-0300
TZOFFSETTO:-0300
TZNAME:-03
DTSTART:20240101T000000
END:STANDARD
END:VTIMEZONE
BEGIN:VEVENT
DTSTART;VALUE=DATE:20251114
DTEND;VALUE=DATE:20251115
DTSTAMP:20260420T191150
CREATED:20251015T174207Z
LAST-MODIFIED:20251015T183831Z
UID:10000037-1763078400-1763164799@swnb.ymca.ca
SUMMARY:Tour: Crane Mountain Landfill visit
DESCRIPTION:Tour: Crane Mountain Landfill ♻️ \nJoin us for an educational visit to the Crane Mountain Landfill Education Centre and discover why it’s important to reduce\, reuse\, and recycle. Learn what happens to our garbage locally and explore simple ways you can help protect our environment. \n📅 Friday\, November 14\, 2025🕙 Morning Session: 10:00 a.m. – 11:30 a.m.🕐 Afternoon Session: 1:00 p.m. – 2:30 p.m.\n📍 Location: 10 Crane Mountain Rd\, Grand Bay–Westfield \nOur Information and Orientation sessions are free and open to everyone\, regardless of immigration status. \nTo register\, please reach out to us at h.yu@saintjohny.ca
URL:https://swnb.ymca.ca/event/tour-crane-mountain-landfill-visit/
LOCATION:Crane Mountain Landfill\, 10 Crane Mountain Rd\, Saint John\, NB\, E2M 7T8\, Canada
ATTACH;FMTTYPE=image/jpeg:https://swnb.ymca.ca/wp-content/uploads/2025/03/NewsFillerImage_whiteY-2.jpg
END:VEVENT
BEGIN:VEVENT
DTSTART;VALUE=DATE:20251119
DTEND;VALUE=DATE:20251120
DTSTAMP:20260420T191150
CREATED:20251015T184918Z
LAST-MODIFIED:20251015T184957Z
UID:10000038-1763510400-1763596799@swnb.ymca.ca
SUMMARY:I&O: Managing Debt on a Low Income
DESCRIPTION:I&O: Managing Debt on a Low Income\nJoin us for an informative session on building financial confidence and learning practical ways to manage your money. This workshop will help you understand how to create a realistic budget\, manage your cash flow\, and make informed financial decisions. \nDiscover the difference between “good debt” and “bad debt\,” and learn how to distinguish between “wants” and “needs” to stay financially balanced. \nWe are pleased to welcome Winston Anthony Joseph D’Souza\, CPA from the Chartered Professional Accountants of Canada as our guest speaker for this session. \n📅 Wednesday\, November 19\, 2025\n💻 Virtual Sessions \n\n\nMorning Session (11:00 a.m. – 12:00 p.m.)Register here \n\n\nAfternoon Session (2:00 p.m. – 3:00 p.m.)Register here \n\n\nEvening Session (5:45 p.m. – 6:45 p.m.)Register here
URL:https://swnb.ymca.ca/event/20779/
LOCATION:zoom
ATTACH;FMTTYPE=image/jpeg:https://swnb.ymca.ca/wp-content/uploads/2025/03/NewsFillerImage_whiteY-2.jpg
END:VEVENT
BEGIN:VEVENT
DTSTART;TZID=America/Sao_Paulo:20251125T183000
DTEND;TZID=America/Sao_Paulo:20251125T203000
DTSTAMP:20260420T191150
CREATED:20251028T193611Z
LAST-MODIFIED:20251028T193846Z
UID:10000040-1764095400-1764102600@swnb.ymca.ca
SUMMARY:International Cooking Class: Ukrainian Cuisine
DESCRIPTION:International Cooking Class: Ukrainian Cuisine 🍲\nSpice up your evening with an unforgettable culinary adventure! 🍽️Join guest chef Nataliia Kornetska for a hands-on Ukrainian cooking class — learn to make authentic dishes\, discover stories behind the recipes\, and enjoy a delicious dinner you create! \n✨ Tuesday\, November 25\, 2025 | 6:30–8:30 PM📍 Irving Oil Field House (In-person)💲 $25 + tax — all ingredients included \nLimited seats — and they go fast! 🔥Bring your curiosity (and appetite!) and let’s cook\, taste\, and celebrate culture together. \nRegister Now! 
URL:https://swnb.ymca.ca/event/international-cooking-class-ukrainian-cuisine/
LOCATION:Irving Oil Field House\, 129 McAllister Drive\, Saint John\, New Brunswick\, E2J 2S7\, Canada
ATTACH;FMTTYPE=image/jpeg:https://swnb.ymca.ca/wp-content/uploads/2025/03/NewsFillerImage_whiteY-2.jpg
END:VEVENT
BEGIN:VEVENT
DTSTART;VALUE=DATE:20251126
DTEND;VALUE=DATE:20251127
DTSTAMP:20260420T191150
CREATED:20251015T185807Z
LAST-MODIFIED:20251015T190017Z
UID:10000039-1764115200-1764201599@swnb.ymca.ca
SUMMARY:I&O: Financial Literacy for Newcomers - Managing Your Finances
DESCRIPTION:I&O: Financial Literacy for Newcomers – Managing Your Finances\nAre you new to Canada and looking to better understand how to manage your finances?Join our free Information & Orientation (I&O) session to gain essential financial skills that will help you plan\, save\, and build a strong financial foundation in your new home. \n📘 In this session\, you will learn:• How to create and stick to a realistic budget• The basics of Canadian banking and credit• Smart ways to save money and avoid debt• How to plan for the future — saving for emergencies\, education\, and retirement \nWe are pleased to welcome a guest speaker from the Chartered Professional Accountants of Canada (CPA) who will guide participants through key financial concepts and practical tips. \n📅 Wednesday\, November 26\, 2025💻 Virtual Sessions \n\n\nMorning Session (11:00 a.m. – 12:00 p.m.)Register here \n\n\nAfternoon Session (2:00 p.m. – 3:00 p.m.)Register here \n\n\nEvening Session (5:45 p.m. – 6:45 p.m.)Register here
URL:https://swnb.ymca.ca/event/20784/
LOCATION:zoom
ATTACH;FMTTYPE=image/jpeg:https://swnb.ymca.ca/wp-content/uploads/2025/03/NewsFillerImage_whiteY-2.jpg
END:VEVENT
END:VCALENDAR