BEGIN:VCALENDAR
VERSION:2.0
PRODID:-//YMCA - Southwestern New Brunswick - ECPv6.15.20//NONSGML v1.0//EN
CALSCALE:GREGORIAN
METHOD:PUBLISH
X-WR-CALNAME:YMCA - Southwestern New Brunswick
X-ORIGINAL-URL:https://swnb.ymca.ca
X-WR-CALDESC:Events for YMCA - Southwestern New Brunswick
REFRESH-INTERVAL;VALUE=DURATION:PT1H
X-Robots-Tag:noindex
X-PUBLISHED-TTL:PT1H
BEGIN:VTIMEZONE
TZID:UTC
BEGIN:STANDARD
TZOFFSETFROM:+0000
TZOFFSETTO:+0000
TZNAME:UTC
DTSTART:20240101T000000
END:STANDARD
END:VTIMEZONE
BEGIN:VEVENT
DTSTART;TZID=UTC:20250527T113000
DTEND;TZID=UTC:20250527T130000
DTSTAMP:20260421T004605
CREATED:20250429T221332Z
LAST-MODIFIED:20250502T215500Z
UID:10000009-1748345400-1748350800@swnb.ymca.ca
SUMMARY:YMCA Annual General Meeting
DESCRIPTION:You’re Invited to Our Annual General Meeting! ️ \nWe are pleased to invite you to join us for our Annual General Meeting on : \nDate:  Monday\, May 27 \nTime:  11:30 AM \nLocation: MacMurray Room \n  \nThe AGM is an important opportunity to come together\, reflect on the past year’s achievements\, share updates on future plans\, and strengthen the connections that drive our work. Your participation and support help shape our direction and impact. Whether you’re a long-time member or new to our community\, we would be honored to have you with us\, everyone welcome. \nPlease RSVP here: https://yswnb.com/2024-AGM \nWe look forward to seeing you there!
URL:https://swnb.ymca.ca/event/community-event-maple-sugar-bush-tours-pancakes-copy/
LOCATION:Saint John Regional Y – YMCA of Southwestern New Brunswick\, 191 Churchill Blvd\, Saint John\, New Brunswick\, E2K 3E2\, Canada
ATTACH;FMTTYPE=image/jpeg:https://swnb.ymca.ca/wp-content/uploads/2025/03/NewsFillerImage_whiteY-2.jpg
END:VEVENT
BEGIN:VEVENT
DTSTART;VALUE=DATE:20250527
DTEND;VALUE=DATE:20250528
DTSTAMP:20260421T004605
CREATED:20250515T233535Z
LAST-MODIFIED:20250515T233535Z
UID:10000011-1748304000-1748390399@swnb.ymca.ca
SUMMARY:Community Event - International Cooking Class: Chinese Cuisine
DESCRIPTION:International Cooking Class: Chinese Cuisine\nGet ready for a flavorful adventure at our next International Cooking Class\, where we’ll dive into the mouthwatering world of Hong Kong-style Dim Sum! Whether you’re a foodie\, a curious cook\, or just love trying something new\, this hands-on class is the perfect recipe for a fun night out. \nMeet Chef Justin Tsang – Born in Canada\, and with over 20 years spent mastering Chinese cuisine in Hong Kong and the Guangdong region\, Justin now calls Saint John home—and he’s ready to share his passion and skills for cooking with YOU! \nWhat to Expect:\n\nLearn to make authentic dim sum favorites from scratch\nHear the rich cultural stories behind the dishes\nEnjoy a sit-down tasting of everything you create\n\nDate: Tuesday\, May 27\, 2025\nTime: 6:30 PM – 8:30 PM\nLocation: Irving Oil Field House – 129 McAllister Dr\, Saint John\, NB\nCost: $25 + tax (All ingredients included!) \nLimited spots left – Secure yours before it sells out! \nCome hungry\, leave inspired. Let’s roll some dim sum magic together! \nRegister Now!!
URL:https://swnb.ymca.ca/event/chinese-cusine/
LOCATION:Saint John Regional Y – YMCA of Southwestern New Brunswick\, 191 Churchill Blvd\, Saint John\, New Brunswick\, E2K 3E2\, Canada
ATTACH;FMTTYPE=image/jpeg:https://swnb.ymca.ca/wp-content/uploads/2025/03/NewsFillerImage_whiteY-2.jpg
END:VEVENT
BEGIN:VEVENT
DTSTART;VALUE=DATE:20250527
DTEND;VALUE=DATE:20250528
DTSTAMP:20260421T004605
CREATED:20250515T231218Z
LAST-MODIFIED:20250516T000545Z
UID:10000010-1748304000-1748390399@swnb.ymca.ca
SUMMARY:I&O – How to Buy a House
DESCRIPTION:I&O – How to Buy a House\nThinking about buying your first home? Join us for an informative session designed to help you understand the real estate market in Saint John and make confident decisions during the home-buying process. A local real estate expert will guide you through the key steps and considerations involved in purchasing a home. \nWhat You’ll Learn:✅ An overview of the current housing market in Saint John✅ Step-by-step guidance on the home-buying process✅ What to look for when choosing a home✅ Financial considerations\, paperwork\, and timelines✅ Live Q&A with a licensed real estate professional \nThis session is perfect for newcomers\, first-time buyers\, or anyone curious about real estate in Saint John. \n📅 Date: Tuesday\, May 27\, 2025📍 Location: YMCA\, Room 8/9 (In-person) & Online via Zoom \n🕚 Session Times: \n\n\nMorning: 11:00 AM – 12:00 PM \n\n\nAfternoon: 2:00 PM – 3:00 PM \n\n\nEvening: 5:45 PM – 6:45 PM (In-person & Online) \n\n\nOur Informative and Orientation (I&O) sessions are open to everyone. \n🔗 Register for the online session
URL:https://swnb.ymca.ca/event/io-how-to-buy-a-house/
LOCATION:Saint John Regional Y – YMCA of Southwestern New Brunswick\, 191 Churchill Blvd\, Saint John\, New Brunswick\, E2K 3E2\, Canada
ATTACH;FMTTYPE=image/jpeg:https://swnb.ymca.ca/wp-content/uploads/2025/03/NewsFillerImage_whiteY-2.jpg
END:VEVENT
BEGIN:VEVENT
DTSTART;VALUE=DATE:20250521
DTEND;VALUE=DATE:20250522
DTSTAMP:20260421T004605
CREATED:20250515T235151Z
LAST-MODIFIED:20250515T235253Z
UID:10000012-1747785600-1747871999@swnb.ymca.ca
SUMMARY:I&O – All About Renting
DESCRIPTION:I&O – All About Renting \n \nAre you currently renting in Saint John? Join us for a helpful and informative online session where we’ll cover everything you need to know about renting in New Brunswick. \nThis session will explore your rights and responsibilities as a tenant\, how to maintain a positive landlord-tenant relationship\, and what steps to take in the event of a rental dispute. \n🗓 Date: Wednesday\, May 21\, 2025\n💻 Morning Session: 11:00 AM – 12:00 PM (Online via Zoom)\nRegister for the morning session \n💻 Evening Session: 5:45 PM – 6:45 PM (Online via Zoom)\nRegister for the evening session \nThis free online session is open to everyone\, regardless of your immigration status. \nOur Informative and Orientation (I&O) sessions are open to everyone. \n 
URL:https://swnb.ymca.ca/event/allaboutrenting/
LOCATION:Saint John Regional Y – YMCA of Southwestern New Brunswick\, 191 Churchill Blvd\, Saint John\, New Brunswick\, E2K 3E2\, Canada
ATTACH;FMTTYPE=image/jpeg:https://swnb.ymca.ca/wp-content/uploads/2025/03/NewsFillerImage_whiteY-2.jpg
END:VEVENT
BEGIN:VEVENT
DTSTART;TZID=UTC:20250423T183000
DTEND;TZID=UTC:20250423T203000
DTSTAMP:20260421T004605
CREATED:20250324T200301Z
LAST-MODIFIED:20250411T193042Z
UID:10000005-1745433000-1745440200@swnb.ymca.ca
SUMMARY:35th Annual Red Triangle Awards
DESCRIPTION:The YMCA of Southwestern New Brunswick values the significant contributions that individuals have made in our society.  Since 1990\, the Y has been recognizing individuals that have made a difference in the community. \nThe Red Triangle Award is presented in recognition of long and meritorious volunteer service\, outstanding contributions\, and achievement within the Y or in the community. The recipient of this award has been an active volunteer and demonstrated a commitment to the community throughout their lifetime. They have made a difference in Canadian society. \nThe Leader to Watch Award is presented to an individual\, 35 years or younger\, who is a role model for youth in our community. This person demonstrates skills\, enthusiasm\, and leadership in their work\, in educational settings\, and as a volunteer in the community. \nJoin us at the Saint John Regional Y on Wednesday\, April 23 at 6:30 PM to celebrate this year’s Red Triangle Award recipient Janet Thompson-Price and Leader to Watch Award recipient Cameron Keyes. \n Purchase Tickets   \nRed Triangle: Janet Thompson-Price\nJanet‘s involvement with the YMCA began in her teenage years and has remained a central part of her life\, including serving on the Board of Directors of the YMCA of Greater Saint John (when it was still this name). As an immigration lawyer and co-founder of Atlantic Fusion Law Group\, Janet has passionately supported immigrant communities\, offering pro bono legal services\, co-founding a citizenship clinic\, and securing permits for victims of intimate partner violence. She has also mentored business immigrants\, led free legal seminars\, and created a Facebook support group for newcomer women. Janet’s advocacy for diversity\, equity\, and inclusion has earned her recognition from the Greater Saint John Community Foundation. Through her unwavering commitment to helping immigrants and fostering a sense of belonging\, Janet has made a lasting impact on both the immigrant community and the broader Saint John region\, making her a deserving candidate for the Red Triangle Award. \n \nLeader to Watch: Cameron Keyes\nAt just 25\, Cameron is an outstanding young leader known for his passion for inclusion and advocacy for individuals with disabilities. As president of Best Buddies at the University of New Brunswick Fredericton\, he leads a team of volunteers to promote inclusion\, acceptance\, and friendship among individuals with and without intellectual disabilities. He’s also an active member of L’Arche Saint John and works at the Boys and Girls Club of Saint John\, where he supports children with autism. Cameron’s ability to connect with people of all ages\, his empathy\, and his commitment to building meaningful relationships make him a remarkable role model. His volunteer efforts\, including organizing a successful Family Fun Day for the Down Syndrome Society of Saint John\, demonstrate his dedication to fostering community and inclusion. Cameron’s leadership style is rooted in collaboration\, always working with others to create positive change. His exceptional ability to inspire and empower those around him makes him a true leader and a worthy candidate for this prestigious award. \n \nJoin us and celebrate this year’s recipients.\nThe Red Triangle Awards Gala is coming soon Day Hour Minute Second  Purchase Tickets  \nThank you to our 2025 Sponsors!
URL:https://swnb.ymca.ca/event/35th-annual-red-triangle-awards/
LOCATION:Saint John Regional Y – YMCA of Southwestern New Brunswick\, 191 Churchill Blvd\, Saint John\, New Brunswick\, E2K 3E2\, Canada
ATTACH;FMTTYPE=image/png:https://swnb.ymca.ca/wp-content/uploads/2025/03/Red-Triangle-Homepage-Feature-1.png
END:VEVENT
BEGIN:VEVENT
DTSTART;VALUE=DATE:20250329
DTEND;VALUE=DATE:20250330
DTSTAMP:20260421T004605
CREATED:20250324T200523Z
LAST-MODIFIED:20250403T232120Z
UID:10000006-1743206400-1743292799@swnb.ymca.ca
SUMMARY:Community Event: Maple Sugar Bush Tours & Pancakes
DESCRIPTION:Ready for a sweet adventure? Join us for a fun-filled\, hands-on maple experience! Stroll through the beautiful sugar bush on a 45-minute guided tour\, discover the history of maple syrup making from Indigenous traditions to modern-day techniques\, and visit the sugar shack to see how sap turns into liquid gold. And of course\, no maple experience is complete without a sticky\, sweet treat-try maple taffy-on-snow and enjoy a delicious pancake breakfast with all the fixings!\nWhat’s in Store?\n🍁 A guided 45-minute nature walk through the sugar bush🏡 A visit to the sugar shack to see syrup-making in action❄️ Maple taffy-on-snow – a sweet\, sticky delight!🥞 A hearty pancake breakfast with maple syrup\, sausages\, and coffee\nEvent Details:\n📅 When: Saturday\, March 29th\n⏰ Time Slots: \n\n10:00 AM – 11:00 AM\n11:00 AM – 12:00 PM\n12:00 PM – 1:00 PM\n1:00 PM – 2:00 PM\n\n📍 Where: Elmhurst Outdoors\, 65 Ganong Road\, Erbs Cove\, Kingston Peninsula\, NB💲  Fee: $20 for 4 people💲 Additional individual: $5 per person\nPayment: Accepted via cash on the day of the event.\nFew Spots Left-register now to book your spot!\n			\n							Register Now!
URL:https://swnb.ymca.ca/event/community-event-maple-sugar-bush-tours-pancakes/
LOCATION:Elmhurst Outdoors\, 65 Ganong Rd\, Erbs Cove\, NB\, E5N 8B2\, Canada
ATTACH;FMTTYPE=image/jpeg:https://swnb.ymca.ca/wp-content/uploads/2025/03/NewsFillerImage_whiteY-2.jpg
END:VEVENT
BEGIN:VEVENT
DTSTART;TZID=UTC:20250325T183000
DTEND;TZID=UTC:20250325T203000
DTSTAMP:20260421T004605
CREATED:20250325T155813Z
LAST-MODIFIED:20250516T153903Z
UID:10000007-1742927400-1742934600@swnb.ymca.ca
SUMMARY:International Cooking Class - Nigerian Cuisine 🍛
DESCRIPTION:🌶️ Spice Up Your Life! 🌍 \nGet ready for a hands-on culinary adventure! Join us and our incredible guest chef\, Oluwakiyeimi Afisat\, to discover the rich\, bold flavors of authentic Nigerian cuisine. \n👩‍🍳 When: Tuesday\, March 25th\, 6:30 PM – 8:30 PM🏠 Where: Irving Oil Field House\, Saint John💵 Cost: $25 + tax (Ingredients included) \n🛑 Limited spots available-tickets are flying! \nDon’t miss this chance to learn secret cooking techniques\, make unforgettable dishes\, and\, of course\, enjoy the amazing meal you’ve created. \n👇 Click Below to Get Your Tickets Before They’re Gone! \n Register Now!
URL:https://swnb.ymca.ca/event/international-cooking-class-nigerian-cuisine/
LOCATION:Irving Oil Field House\, 129 McAllister Drive\, Saint John\, New Brunswick\, E2J 2S7\, Canada
ATTACH;FMTTYPE=image/jpeg:https://swnb.ymca.ca/wp-content/uploads/2025/03/NewsFillerImage_whiteY-2.jpg
END:VEVENT
END:VCALENDAR