BEGIN:VCALENDAR
VERSION:2.0
PRODID:-//YMCA - Southwestern New Brunswick - ECPv6.15.20//NONSGML v1.0//EN
CALSCALE:GREGORIAN
METHOD:PUBLISH
X-ORIGINAL-URL:https://swnb.ymca.ca
X-WR-CALDESC:Events for YMCA - Southwestern New Brunswick
REFRESH-INTERVAL;VALUE=DURATION:PT1H
X-Robots-Tag:noindex
X-PUBLISHED-TTL:PT1H
BEGIN:VTIMEZONE
TZID:America/Sao_Paulo
BEGIN:STANDARD
TZOFFSETFROM:-0300
TZOFFSETTO:-0300
TZNAME:-03
DTSTART:20250101T000000
END:STANDARD
END:VTIMEZONE
BEGIN:VEVENT
DTSTART;TZID=America/Sao_Paulo:20260428T100000
DTEND;TZID=America/Sao_Paulo:20260428T120000
DTSTAMP:20260420T144909
CREATED:20260331T191914Z
LAST-MODIFIED:20260331T191914Z
UID:10000069-1777370400-1777377600@swnb.ymca.ca
SUMMARY:I&O-Fire Station Visit
DESCRIPTION:I&O : Fire Station Visit \nJoin us for an exciting visit to a local fire station. Meet firefighters in Saint John and learn about their roles\, daily duties\, and how they help keep the community safe. \nParticipants will have the opportunity to tour the station\, explore fire trucks\, equipment\, and gear\, and gain important knowledge about fire prevention and safety. \nDate: Tuesday\, April 28\, 2026Time: 10:00 a.m. \nAll Information and Orientation sessions are open to everyone\, irrespective of immigration status.
URL:https://swnb.ymca.ca/event/io-fire-station-visit/
LOCATION:Saint John Regional Y – YMCA of Southwestern New Brunswick\, 191 Churchill Blvd\, Saint John\, New Brunswick\, E2K 3E2\, Canada
ATTACH;FMTTYPE=image/jpeg:https://swnb.ymca.ca/wp-content/uploads/2026/03/Y-logo-no-shineon-feature-image-for-the-website.jpg
END:VEVENT
BEGIN:VEVENT
DTSTART;TZID=America/Sao_Paulo:20260526T183000
DTEND;TZID=America/Sao_Paulo:20260526T203000
DTSTAMP:20260420T144909
CREATED:20260413T200323Z
LAST-MODIFIED:20260413T202440Z
UID:10000070-1779820200-1779827400@swnb.ymca.ca
SUMMARY:Community Event: International Cooking Class Indian Cuisine
DESCRIPTION:Community Event: International Cooking Class Indian Cuisine \nIndian Cooking Class Join us for a hands-on cooking experience and learn to prepare authentic Indian dishes with Chef Ridhima Dixit. Discover traditional flavours\, cooking techniques\, and the rich use of Indian spices in a fun and interactive setting. \nEvent Details \nDate: Tuesday\, May 26\, 2026Time: 6:30 PM – 8:30 PMLocation: Irving Oil Field House\, Saint JohnFee: $25 + tax (Ingredients included) \nThis program is open to everyone.The program fee is non-refundable. \nSpots are limited. Secure your place today! \nRegister Now
URL:https://swnb.ymca.ca/event/international-cooking-class-indian-cuisine/
LOCATION:Irving Oil Field House\, 129 McAllister Drive\, Saint John\, New Brunswick\, E2J 2S7\, Canada
END:VEVENT
END:VCALENDAR