BEGIN:VCALENDAR
VERSION:2.0
PRODID:-//YMCA - Southwestern New Brunswick - ECPv6.15.20//NONSGML v1.0//EN
CALSCALE:GREGORIAN
METHOD:PUBLISH
X-ORIGINAL-URL:https://swnb.ymca.ca
X-WR-CALDESC:Events for YMCA - Southwestern New Brunswick
REFRESH-INTERVAL;VALUE=DURATION:PT1H
X-Robots-Tag:noindex
X-PUBLISHED-TTL:PT1H
BEGIN:VTIMEZONE
TZID:America/Sao_Paulo
BEGIN:STANDARD
TZOFFSETFROM:-0300
TZOFFSETTO:-0300
TZNAME:-03
DTSTART:20240101T000000
END:STANDARD
END:VTIMEZONE
BEGIN:VEVENT
DTSTART;TZID=America/Sao_Paulo:20251219T100000
DTEND;TZID=America/Sao_Paulo:20251219T130000
DTSTAMP:20260421T005127
CREATED:20251128T180330Z
LAST-MODIFIED:20251211T144750Z
UID:10000050-1766138400-1766149200@swnb.ymca.ca
SUMMARY:Community event: Holiday Potluck Event
DESCRIPTION:Community event: Holiday Potluck Event \nCelebrate the season with delicious food\, vibrant performances\, and festive fun. Bring a nut-free dish from your culture\, sample flavors from around the globe\, and share stories while connecting with amazing people in the community. \n📅 Friday\, December 19 | 10:00 AM – 1:00 PM📍 Kent Theater\, 24 Coburg St\, Saint John💌 Everyone is welcome \nLimited spots available — register now and be part of this holiday celebration! \nRegister Now\n\nQuestions:  Contact Settlement Trainers team at settlementtrainers@saintjohny.ca \n 
URL:https://swnb.ymca.ca/event/community-event-holiday-potluck-event/
LOCATION:Kent Theatre\, 24 Coburg St\, Saint John\, NB\, E2L 3J5\, Canada
ATTACH;FMTTYPE=image/jpeg:https://swnb.ymca.ca/wp-content/uploads/2025/03/NewsFillerImage_whiteY-2.jpg
END:VEVENT
BEGIN:VEVENT
DTSTART;VALUE=DATE:20260115
DTEND;VALUE=DATE:20260116
DTSTAMP:20260421T005127
CREATED:20260102T151508Z
LAST-MODIFIED:20260102T161518Z
UID:10000051-1768435200-1768521599@swnb.ymca.ca
SUMMARY:I&O: Filing Your Income Tax Return
DESCRIPTION:I &O – Filing Your Income Tax Return\nJoin us for an informative online session in partnership with CPA Canada\, designed to support newcomers filing their income tax return for the first time. Learn how to file your taxes with confidence and gain valuable insight into the benefits and credits available to you in Canada. \nGuest Speaker:Winston D’ Souza\, CPA \nDate:Thursday\, January 15\, 2026 \nOnline Sessions Available: \nMorning Session11:15 AM – 12:15 PM via ZoomRegister Here \nEvening Session5:30 PM – 6:30 PM via ZoomRegister Here \nFor additional information\, please contact settlementtrainers@saintjohny.ca \nOur information and orientation sessions are free and open to everyone irrespective of your immigration status.
URL:https://swnb.ymca.ca/event/io-filing-your-income-tax-return/
LOCATION:zoom
ATTACH;FMTTYPE=image/jpeg:https://swnb.ymca.ca/wp-content/uploads/2025/03/NewsFillerImage_whiteY-2.jpg
END:VEVENT
BEGIN:VEVENT
DTSTART;VALUE=DATE:20260121
DTEND;VALUE=DATE:20260122
DTSTAMP:20260421T005127
CREATED:20260102T152914Z
LAST-MODIFIED:20260102T161424Z
UID:10000052-1768953600-1769039999@swnb.ymca.ca
SUMMARY:I&O: Common Medicines in Canada
DESCRIPTION:I&O – Common Medicines in Canada\nLearn about commonly used medicines in Canada\, including over-the-counter options\, their purpose\, and how to make informed and safe choices for you and your family. This session is ideal for newcomers seeking practical health knowledge for everyday living. \nGuest Speaker:Laura Demerchant\, PharmacistShoppers Drug Mart (SDM) \nDate:Wednesday\, January 21\, 2026 \nOnline Sessions Available at:  \nMorning SessionIn-person (Y) and Online11:15 AM – 12:15 PMRegister Here \nEvening SessionIn-person (Y) and Online5:30 PM – 6:30 PMRegister Here \nFor additional information\, please contact settlementtrainers@saintjohny.ca \nOur information and orientation sessions are free and open to everyone irrespective of your immigration status.
URL:https://swnb.ymca.ca/event/io-common-medicines-in-canada/
LOCATION:zoom
ATTACH;FMTTYPE=image/jpeg:https://swnb.ymca.ca/wp-content/uploads/2025/03/NewsFillerImage_whiteY-2.jpg
END:VEVENT
BEGIN:VEVENT
DTSTART;TZID=America/Sao_Paulo:20260122T113000
DTEND;TZID=America/Sao_Paulo:20260122T123000
DTSTAMP:20260421T005127
CREATED:20260102T153246Z
LAST-MODIFIED:20260102T161240Z
UID:10000053-1769081400-1769085000@swnb.ymca.ca
SUMMARY:I&O: Digital Help with NB HealthLink
DESCRIPTION:I&O – Digital Help with NB HealthLink\nLearn how to register for a family doctor and how to use NB HealthLink effectively. This in-person drop-in session will guide you through the process and help you feel confident navigating health care services in New Brunswick. \nGuest Speaker:David Collins \nDate:Thursday\, January 22\, 2026 \nSession Details: \nMorning SessionIn-person (Y)11:30 AM – 12:00 PM \nFor additional information\, please contact settlementtrainers@saintjohny.ca \nOur information and orientation sessions are free and open to everyone irrespective of your immigration status.
URL:https://swnb.ymca.ca/event/io-digital-help-with-nb-healthlink/
LOCATION:Saint John Regional Y – YMCA of Southwestern New Brunswick\, 191 Churchill Blvd\, Saint John\, New Brunswick\, E2K 3E2\, Canada
ATTACH;FMTTYPE=image/jpeg:https://swnb.ymca.ca/wp-content/uploads/2025/03/NewsFillerImage_whiteY-2.jpg
END:VEVENT
BEGIN:VEVENT
DTSTART;TZID=America/Sao_Paulo:20260127T183000
DTEND;TZID=America/Sao_Paulo:20260127T203000
DTSTAMP:20260421T005127
CREATED:20260102T160941Z
LAST-MODIFIED:20260108T182458Z
UID:10000054-1769538600-1769545800@swnb.ymca.ca
SUMMARY:Community Event – International Cooking Class: Canadian Cuisine
DESCRIPTION:Community Event – International Cooking Class: Canadian Cuisine\nJoin us for a fun and interactive cooking class celebrating the flavours of Canadian cuisine. We are pleased to welcome our community volunteer\, Nancy Knox\, as our guest chef. She will guide participants in preparing two delicious dishes: Chicken Pot Pie Casserole and Ginger Spice Cake. \nAfter cooking\, participants will have the opportunity to enjoy the meals they create together. \nDate: Tuesday\, January 27\, 2026 \nTime: 6:30 PM – 8:30 PM \nGuest Chef: Nancy Knox \nLocation:In person at Irving Oil Field House \nRegistration Fee: $25 + tax per participant (Ingredients will be provided)Limited spots available \nRegister Now! 
URL:https://swnb.ymca.ca/event/community-event-international-cooking-class-canadian-cuisine/
LOCATION:Irving Oil Field House\, 129 McAllister Drive\, Saint John\, New Brunswick\, E2J 2S7\, Canada
ATTACH;FMTTYPE=image/jpeg:https://swnb.ymca.ca/wp-content/uploads/2025/03/NewsFillerImage_whiteY-2.jpg
END:VEVENT
BEGIN:VEVENT
DTSTART;VALUE=DATE:20260128
DTEND;VALUE=DATE:20260129
DTSTAMP:20260421T005127
CREATED:20260106T142140Z
LAST-MODIFIED:20260106T142140Z
UID:10000055-1769558400-1769644799@swnb.ymca.ca
SUMMARY:I&O – Taking Care of Your Brain Health
DESCRIPTION:I&O – Taking Care of Your Brain Health \nJoin us for an informative session on brain health presented by the Alzheimer Society of New Brunswick. This session highlights the importance of caring for your brain\, just as you would the rest of your body. Learn how the brain plays a vital role in controlling thoughts\, memory\, emotions\, movement\, and many other essential functions\, and discover practical ways to support lifelong brain health. \nDate: Wednesday\, January 28\, 2026 \nLocation: In person ( Saint John Regional Y and online via Zoom \nMorning Session:11:15 a.m. – 12:15 p.m.Register Today! \nEvening Session:5:30 p.m. – 6:30 p.m.Register Today! \nAll information and orientation sessions are free and open to everyone\, regardless of immigration status.
URL:https://swnb.ymca.ca/event/io-taking-care-of-your-brain-health/
LOCATION:Saint John Regional Y – YMCA of Southwestern New Brunswick\, 191 Churchill Blvd\, Saint John\, New Brunswick\, E2K 3E2\, Canada
ATTACH;FMTTYPE=image/jpeg:https://swnb.ymca.ca/wp-content/uploads/2025/03/NewsFillerImage_whiteY-2.jpg
END:VEVENT
BEGIN:VEVENT
DTSTART;TZID=America/Sao_Paulo:20260204T173000
DTEND;TZID=America/Sao_Paulo:20260204T183000
DTSTAMP:20260421T005127
CREATED:20260201T202022Z
LAST-MODIFIED:20260201T202107Z
UID:10000057-1770226200-1770229800@swnb.ymca.ca
SUMMARY:I&O-Filing Income Tax Return
DESCRIPTION:I&O-Filing Income Tax Return \nCome join one of our online information sessions with CPA Canada to learn how to file taxes for the first time as a newcomer. You’ll learn how to file your taxes and get familiar with important benefits and credits you may be eligible for. \nGuest Speaker: Winston D’ Souza (CPA)Date: Wednesday\, February 4\, 2026Time: 5:30 PM – 6:30 PMLocation: Zoom \nRegister here \nAll of our information and orientation sessions are free and open to everyone. \n 
URL:https://swnb.ymca.ca/event/io-filing-income-tax-return/
LOCATION:zoom
ATTACH;FMTTYPE=image/jpeg:https://swnb.ymca.ca/wp-content/uploads/2025/03/NewsFillerImage_whiteY-2.jpg
END:VEVENT
BEGIN:VEVENT
DTSTART;VALUE=DATE:20260210
DTEND;VALUE=DATE:20260211
DTSTAMP:20260421T005127
CREATED:20260201T210827Z
LAST-MODIFIED:20260201T210827Z
UID:10000058-1770681600-1770767999@swnb.ymca.ca
SUMMARY:I&O – Healthy Eating with a Nutritionist
DESCRIPTION:I&O – Healthy Eating with a Nutritionist\nJoin us for an informative session focused on nutrition and healthy eating for individuals and families. This session will cover how to read food labels\, how eating habits affect your overall health\, and practical ways to make healthier food choices for your family. \nGuest Speaker:Martha MacLean\, RDDietitian\, St. Joseph’s Community Health Centre \nDate:Tuesday\, February 10\, 2026 \nSession Options (Hybrid – in person & online): \nMorning Session🕚 11:15 AM📍 YMCA – Room 8/9 + Online via Zoom👉 Register for the morning session \nEvening Session🕠 5:30 PM📍 YMCA – Room 8/9 + Online via Zoom👉 Register for the evening session \nAll information and orientation sessions are free and open to everyone.
URL:https://swnb.ymca.ca/event/io-healthy-eating-with-a-nutritionist/
LOCATION:Saint John Regional Y – YMCA of Southwestern New Brunswick\, 191 Churchill Blvd\, Saint John\, New Brunswick\, E2K 3E2\, Canada
ATTACH;FMTTYPE=image/jpeg:https://swnb.ymca.ca/wp-content/uploads/2025/03/NewsFillerImage_whiteY-2.jpg
END:VEVENT
BEGIN:VEVENT
DTSTART;TZID=America/Sao_Paulo:20260214T120000
DTEND;TZID=America/Sao_Paulo:20260214T140000
DTSTAMP:20260421T005127
CREATED:20260206T212600Z
LAST-MODIFIED:20260206T212600Z
UID:10000061-1771070400-1771077600@swnb.ymca.ca
SUMMARY:Friendship & Love Day at the Y
DESCRIPTION:Looking for something fun to do this Valentine’s Day? Join the Y Team to get creative and make kindness cards for someone you love! Be an explorer with a themed scavenger hunt around the lobby! \nBring your friends\, family and loved ones – All are welcome. ❤️ \n\nSaturday\, February 14 from 12PM to 2PM\nSaint John Regional YMCA Lobby | 191 Churchill Blvd.\, Saint John\, NB\nMust be a YMCA member\n\nSee you there!
URL:https://swnb.ymca.ca/event/love-and-friendship-day-ymcaswnb/
LOCATION:Saint John Regional Y – YMCA of Southwestern New Brunswick\, 191 Churchill Blvd\, Saint John\, New Brunswick\, E2K 3E2\, Canada
ATTACH;FMTTYPE=image/png:https://swnb.ymca.ca/wp-content/uploads/2026/02/Valentines-Day-Pop-Up-1.png
END:VEVENT
BEGIN:VEVENT
DTSTART;VALUE=DATE:20260218
DTEND;VALUE=DATE:20260219
DTSTAMP:20260421T005127
CREATED:20260201T213750Z
LAST-MODIFIED:20260201T213750Z
UID:10000059-1771372800-1771459199@swnb.ymca.ca
SUMMARY:I&O – Canadian Culture and Food
DESCRIPTION:I&O – Canadian Culture and Food\nJoin us for an engaging information session exploring Canadian food culture. Learn how people in Canada shop for and enjoy food throughout the different seasons\, discover traditional Canadian foods\, and get ideas on how you and your family can try and enjoy Canadian food at home. \nDate:Wednesday\, February 18\, 2026 \nSession Options: \nMorning Session🕚 11:15 AM – 12:15 PM📍 In person – Saint John Regional Y\, Classroom 8/9 \nEvening Session🕠 5:30 PM – 6:30 PM📍 Hybrid – Saint John Regional Y\, Classroom 8/9 + Online via Zoom \nRegister TodayAll information and orientation sessions are free and open to everyone.
URL:https://swnb.ymca.ca/event/io-canadian-culture-and-food/
LOCATION:Saint John Regional Y – YMCA of Southwestern New Brunswick\, 191 Churchill Blvd\, Saint John\, New Brunswick\, E2K 3E2\, Canada
ATTACH;FMTTYPE=image/jpeg:https://swnb.ymca.ca/wp-content/uploads/2025/03/NewsFillerImage_whiteY-2.jpg
END:VEVENT
BEGIN:VEVENT
DTSTART;TZID=America/Sao_Paulo:20260224T183000
DTEND;TZID=America/Sao_Paulo:20260224T203000
DTSTAMP:20260421T005127
CREATED:20260126T152921Z
LAST-MODIFIED:20260126T152921Z
UID:10000056-1771957800-1771965000@swnb.ymca.ca
SUMMARY:International Cooking Class: Palestinian Cuisine
DESCRIPTION:Discover the Flavours of Palestine! \nJoin us for an unforgettable evening exploring Palestinian cuisine with our guest chef\, Nour M M OWISS. This hands-on cooking class is perfect for anyone who loves food\, culture\, and connecting with the community. \nWhat You’ll Experience: \n\n\nPrepare authentic dishes guided by an experienced chef \n\n\nLearn cooking tips and techniques you can use at home \n\n\nTaste the delicious dishes you create \n\n\nEnjoy a warm\, welcoming cultural experience with fellow food enthusiasts \n\n\nEvent Details: \n\n\nDate & Time: Tuesday\, Feb 24 | 6:30 PM – 8:30 PM \n\n\nLocation: Irving Oil Field House\, Saint John \n\n\nCost: $25 + tax (all ingredients included) \n\n\nSpots are limited! Don’t miss this chance to cook\, taste\, and connect. Bring a friend and make it an evening to remember. \nRegister Now
URL:https://swnb.ymca.ca/event/international-cooking-class-palestinian-cuisine/
LOCATION:Irving Oil Field House\, 129 McAllister Drive\, Saint John\, New Brunswick\, E2J 2S7\, Canada
ATTACH;FMTTYPE=image/jpeg:https://swnb.ymca.ca/wp-content/uploads/2025/03/NewsFillerImage_whiteY-2.jpg
END:VEVENT
BEGIN:VEVENT
DTSTART;TZID=America/Sao_Paulo:20260228T110000
DTEND;TZID=America/Sao_Paulo:20260228T140000
DTSTAMP:20260421T005127
CREATED:20260201T214641Z
LAST-MODIFIED:20260206T163600Z
UID:10000060-1772276400-1772287200@swnb.ymca.ca
SUMMARY:Community Event – Winter Fun Day ❄️
DESCRIPTION:Community Event –  Winter Fun Day ❄️\nBundle up and join us for a cozy\, fun-filled Winter Fun Day at the Glen Carpenter Centre! Bring the whole family for an afternoon of winter activities\, warm treats\, and community fun. \n✨ What’s happening? \n\nWinter fun activities\, including a winter survival workshop\, snowshoeing\, and a snowman-building competition\nWarm up by the bonfire\nHot chocolate and roasted marshmallows\nKaraoke fun for all ages\nDance workshops to get everyone moving\nArts and crafts for kids and families\nWinter soup cooking workshop\nHenna and face painting station\nBalloon animals station\n\nBring your family\, friends\, and your winter spirit for an afternoon full of laughter\, learning\, and warmth! ❤️❄️ \n📅 Date: Saturday\, February 28\, 2026⏰ Time: 11:00 AM – 2:00 PM📍 Location: YMCA Glen Carpenter Centre\, 135 Glen Carpenter Lane\, Saint John \nEveryone is welcome — let’s celebrate winter together! \nRegister Today
URL:https://swnb.ymca.ca/event/community-event-family-winter-fun-day-%e2%9d%84%ef%b8%8f/
LOCATION:Glenn Capenter Centre\, 135 Glenn Carpenter Lane\, Saint John\, NB\, E2K5J2\, Canada
ATTACH;FMTTYPE=image/jpeg:https://swnb.ymca.ca/wp-content/uploads/2025/03/NewsFillerImage_whiteY-2.jpg
END:VEVENT
BEGIN:VEVENT
DTSTART;TZID=America/Sao_Paulo:20260315T120000
DTEND;TZID=America/Sao_Paulo:20260315T140000
DTSTAMP:20260421T005127
CREATED:20260310T153255Z
LAST-MODIFIED:20260314T001659Z
UID:10000066-1773576000-1773583200@swnb.ymca.ca
SUMMARY:St. Patrick's Day at the Y
DESCRIPTION:Looking for something fun to do this St. Patrick’s Day? Join the Y Team at the Saint John Regional YMCA for the Shamrock Shuffle! Make rainbow crafts in the lobby and enjoy a family dance in the Sisters of Charity Room with some fun Irish tunes. Wear your green and let’s get sham-rockin’ and rollin’! \n📅 Sunday\, March 15th \n🕰️ 12pm – 2pm \n📍 Saint John Regional YMCA\, 191 Churchill Blvd.\, Saint John\, NB \n👤 Must be a YMCA member \nSee you there! ☘️
URL:https://swnb.ymca.ca/event/st-patricks-day-at-the-ymca-2026/
LOCATION:Saint John Regional Y – YMCA of Southwestern New Brunswick\, 191 Churchill Blvd\, Saint John\, New Brunswick\, E2K 3E2\, Canada
ATTACH;FMTTYPE=image/jpeg:https://swnb.ymca.ca/wp-content/uploads/2026/03/Y-logo-no-shineon-feature-image-for-the-website.jpg
END:VEVENT
BEGIN:VEVENT
DTSTART;VALUE=DATE:20260318
DTEND;VALUE=DATE:20260319
DTSTAMP:20260421T005127
CREATED:20260310T123727Z
LAST-MODIFIED:20260310T124454Z
UID:10000064-1773792000-1773878399@swnb.ymca.ca
SUMMARY:I&O-Family Law
DESCRIPTION:I&O-Family Law \nJoin us for an informative session with a Legal Programs Officer from the Public Legal Education and Information Service of New Brunswick (PLEIS). This session is designed to help newcomers better understand family law in Canada and learn how the legal system works. \nDuring the session\, you will learn about your rights and responsibilities as a resident\, how the courts operate\, and basic court rules and procedures. This is a great opportunity to gain helpful knowledge and ask questions in a welcoming and supportive environment. \nDate: Wednesday\, March 18\, 2026 \nMorning Session: 11:15 AM – 12:15 PMAvailable online via Zoom and in person in YMCA Classroom 8/9👉 Register Now \nEvening Session: 5:30 PM – 6:30 PMAvailable online via Zoom and in person in YMCA Classroom 8/9👉 Register Now \nAll information and orientation sessions are free and open to everyone\, irrespective of your immigration status.
URL:https://swnb.ymca.ca/event/io-family-law/
LOCATION:Saint John Regional Y – YMCA of Southwestern New Brunswick\, 191 Churchill Blvd\, Saint John\, New Brunswick\, E2K 3E2\, Canada
ATTACH;FMTTYPE=image/jpeg:https://swnb.ymca.ca/wp-content/uploads/2026/03/Y-logo-no-shineon-feature-image-for-the-website.jpg
END:VEVENT
BEGIN:VEVENT
DTSTART;VALUE=DATE:20260326
DTEND;VALUE=DATE:20260327
DTSTAMP:20260421T005127
CREATED:20260310T124316Z
LAST-MODIFIED:20260310T124335Z
UID:10000065-1774483200-1774569599@swnb.ymca.ca
SUMMARY:I&O-Fire Fighter Talk about Fire Prevention
DESCRIPTION:Information & Orientation Session | Fire Safety and Prevention \nJoin us for an informative session with a firefighter from the Saint John Fire Department to learn about fire safety at home and in the workplace. This session will cover important topics such as fire prevention\, what to do in case of a fire\, and how to safely escape if you are trapped during a fire emergency. \nThis is a great opportunity to learn practical safety tips and ask questions in a supportive environment. \nDate: Thursday\, March 26\, 2026Guest Speaker: Saint John Fire Department \nMorning Session: 11:15 AM – 12:15 PMIn person at Saint John Regional Y\, Classroom 8/9 \nEvening Session: 5:30 PM – 6:30 PMAvailable in person and online via Zoom at Saint John Regional Y\, Classroom 8/9\n👉 Register Now \nAll information and orientation sessions are free and open to everyone.
URL:https://swnb.ymca.ca/event/io-fire-fighter-talk-about-fire-prevention/
LOCATION:Saint John Regional Y – YMCA of Southwestern New Brunswick\, 191 Churchill Blvd\, Saint John\, New Brunswick\, E2K 3E2\, Canada
ATTACH;FMTTYPE=image/jpeg:https://swnb.ymca.ca/wp-content/uploads/2025/03/NewsFillerImage_whiteY-2.jpg
END:VEVENT
BEGIN:VEVENT
DTSTART;VALUE=DATE:20260328
DTEND;VALUE=DATE:20260329
DTSTAMP:20260421T005127
CREATED:20260309T125332Z
LAST-MODIFIED:20260309T125332Z
UID:10000063-1774656000-1774742399@swnb.ymca.ca
SUMMARY:Community event- Maple Sugar Bush Tours & Pancakes
DESCRIPTION:Community event- Maple Sugar Bush Tours & Pancakes \nHave you even seen how maple syrup is made? Join Gig and Denise on a 45-minute interpretive walk through time. Learn about the history of sugar making\, visit the sugar shack where we turn sap into pure maple syrup\, and taste the traditional treat of gooey\, deliciously sweet maple taffy-on-snow. \nWhat to Expect: \n\nA 45-minute interpretive walk\nVisit sugar shack\nTaste maple taffy on snow\nPancakes with maple syrup\, breakfast sausages and coffee\nFee: 5 dollars/ person\nTransportation is provided.\n\nWhen: March 28th\, 10am\, 11am\, 12pm \n(Schedule is subject to change (and always does) as the weather and season progresses.) \n(Limited spots available\, registration required\, first come\, first serve. Once paid\, non-refundable. Payment due day: Wednesday\, March25th.) \nWhere: Elmhurst Outdoors. \n65 Ganong Road\, Erbs Cove\, Kingston Peninsula\, NB \nRegister link: \nCommunity event- Maple Sugar Bush Tours & Pancake – Fill out form
URL:https://swnb.ymca.ca/event/community-event-maple-sugar-bush-tours-pancakes-2/
LOCATION:Elmhurst Outdoors\, 65 Ganong Rd\, Erbs Cove\, NB\, E5N 8B2\, Canada
ATTACH;FMTTYPE=image/jpeg:https://swnb.ymca.ca/wp-content/uploads/2025/03/NewsFillerImage_whiteY-2.jpg
END:VEVENT
BEGIN:VEVENT
DTSTART;TZID=America/Sao_Paulo:20260331T183000
DTEND;TZID=America/Sao_Paulo:20260331T203000
DTSTAMP:20260421T005127
CREATED:20260303T075516Z
LAST-MODIFIED:20260303T075540Z
UID:10000062-1774981800-1774989000@swnb.ymca.ca
SUMMARY:International Cooking Class: Japanese Cuisine
DESCRIPTION:International Cooking Class – Japanese Cuisine\n\nWould you like to enjoy a multi-national experience right here in Saint John? Join us for a special evening dedicated to Japanese cuisine\, where you’ll learn to prepare authentic dishes with our guest chef\, Yuko Elman.\nThis hands-on cooking class will guide you through traditional Japanese recipes\, techniques\, and flavours. From preparation to presentation\, you’ll gain practical skills and cultural insights into Japanese cooking. At the end of the session\, you’ll get to taste and enjoy the delicious dishes you’ve created. \nDate: Tuesday\, March 31\nTime: 6:30 PM – 8:30 PM\nLocation: In person at the Irving Oil Field House\nGuest Chef: Yuko Elman \nAll ingredients will be provided. \nFee: $25 + tax per person. Limited seats available. \nRegister Now! \nPlease note that the registration fee is non-refundable.
URL:https://swnb.ymca.ca/event/international-cooking-class-japanese-cuisine/
LOCATION:Irving Oil Field House\, 129 McAllister Drive\, Saint John\, New Brunswick\, E2J 2S7\, Canada
ATTACH;FMTTYPE=image/jpeg:https://swnb.ymca.ca/wp-content/uploads/2025/03/NewsFillerImage_whiteY-2.jpg
END:VEVENT
BEGIN:VEVENT
DTSTART;VALUE=DATE:20260415
DTEND;VALUE=DATE:20260416
DTSTAMP:20260421T005127
CREATED:20260331T190727Z
LAST-MODIFIED:20260331T190800Z
UID:10000067-1776211200-1776297599@swnb.ymca.ca
SUMMARY:I&O: Introduction to Canadian Elections
DESCRIPTION:I&O: Introduction to Canadian Elections \n\n\n\n\nJoin us for an informative session on how elections work in Canada. This session will cover the different levels of government\, who is eligible to vote\, how elections are conducted\, and why they matter for everyone living in Canada. \nDate: Wednesday\, April 15\, 2026Location: In person at Saint John Regional Y and online via Zoom \nSession Options: \n\nMorning Session: 11:15 a.m. – 12:15 p.m. (In person only at Saint John Regional Y)\nEvening Session: 5:30 p.m. – 6:30 p.m. (In person at Saint John Regional Y & online via Zoom)\n\nRegister for the Evening Session: Here \nAll Information and Orientation sessions are open to everyone\, irrespective of immigration status.
URL:https://swnb.ymca.ca/event/introduction-to-canadian-elections/
LOCATION:Saint John Regional Y – YMCA of Southwestern New Brunswick\, 191 Churchill Blvd\, Saint John\, New Brunswick\, E2K 3E2\, Canada
ATTACH;FMTTYPE=image/jpeg:https://swnb.ymca.ca/wp-content/uploads/2026/03/Y-logo-no-shineon-feature-image-for-the-website.jpg
END:VEVENT
BEGIN:VEVENT
DTSTART;VALUE=DATE:20260422
DTEND;VALUE=DATE:20260423
DTSTAMP:20260421T005127
CREATED:20260331T191237Z
LAST-MODIFIED:20260408T035045Z
UID:10000068-1776816000-1776902399@swnb.ymca.ca
SUMMARY:I&O: Positive Parenting in Canada
DESCRIPTION:I&O – Positive Parenting in Canada \nJoin us for an informative session led by speakers from Family and Child Education (F.A.C.E.) NB. Learn about the services available to families and gain valuable insights into positive parenting practices in Canada. \nDate: Wednesday\, April 22\, 2026Location: In person at Saint John Regional Y and online via Zoom \nSession Options: \n\nMorning Session: 11:15 a.m. – 12:15 p.m. (In person & online)Register here\nEvening Session: 5:30 p.m. – 6:30 p.m. (In person & online)Register here\n\nAll Information and Orientation sessions are open to everyone\, irrespective of immigration status.
URL:https://swnb.ymca.ca/event/io-positive-parenting-in-canada/
LOCATION:Saint John Regional Y – YMCA of Southwestern New Brunswick\, 191 Churchill Blvd\, Saint John\, New Brunswick\, E2K 3E2\, Canada
ATTACH;FMTTYPE=image/jpeg:https://swnb.ymca.ca/wp-content/uploads/2026/03/Y-logo-no-shineon-feature-image-for-the-website.jpg
END:VEVENT
BEGIN:VEVENT
DTSTART;TZID=America/Sao_Paulo:20260428T100000
DTEND;TZID=America/Sao_Paulo:20260428T120000
DTSTAMP:20260421T005127
CREATED:20260331T191914Z
LAST-MODIFIED:20260331T191914Z
UID:10000069-1777370400-1777377600@swnb.ymca.ca
SUMMARY:I&O-Fire Station Visit
DESCRIPTION:I&O : Fire Station Visit \nJoin us for an exciting visit to a local fire station. Meet firefighters in Saint John and learn about their roles\, daily duties\, and how they help keep the community safe. \nParticipants will have the opportunity to tour the station\, explore fire trucks\, equipment\, and gear\, and gain important knowledge about fire prevention and safety. \nDate: Tuesday\, April 28\, 2026Time: 10:00 a.m. \nAll Information and Orientation sessions are open to everyone\, irrespective of immigration status.
URL:https://swnb.ymca.ca/event/io-fire-station-visit/
LOCATION:Saint John Regional Y – YMCA of Southwestern New Brunswick\, 191 Churchill Blvd\, Saint John\, New Brunswick\, E2K 3E2\, Canada
ATTACH;FMTTYPE=image/jpeg:https://swnb.ymca.ca/wp-content/uploads/2026/03/Y-logo-no-shineon-feature-image-for-the-website.jpg
END:VEVENT
BEGIN:VEVENT
DTSTART;TZID=America/Sao_Paulo:20260526T183000
DTEND;TZID=America/Sao_Paulo:20260526T203000
DTSTAMP:20260421T005127
CREATED:20260413T200323Z
LAST-MODIFIED:20260413T202440Z
UID:10000070-1779820200-1779827400@swnb.ymca.ca
SUMMARY:Community Event: International Cooking Class Indian Cuisine
DESCRIPTION:Community Event: International Cooking Class Indian Cuisine \nIndian Cooking Class Join us for a hands-on cooking experience and learn to prepare authentic Indian dishes with Chef Ridhima Dixit. Discover traditional flavours\, cooking techniques\, and the rich use of Indian spices in a fun and interactive setting. \nEvent Details \nDate: Tuesday\, May 26\, 2026Time: 6:30 PM – 8:30 PMLocation: Irving Oil Field House\, Saint JohnFee: $25 + tax (Ingredients included) \nThis program is open to everyone.The program fee is non-refundable. \nSpots are limited. Secure your place today! \nRegister Now
URL:https://swnb.ymca.ca/event/international-cooking-class-indian-cuisine/
LOCATION:Irving Oil Field House\, 129 McAllister Drive\, Saint John\, New Brunswick\, E2J 2S7\, Canada
END:VEVENT
END:VCALENDAR