BEGIN:VCALENDAR
VERSION:2.0
PRODID:-//YMCA - Southwestern New Brunswick - ECPv6.15.20//NONSGML v1.0//EN
CALSCALE:GREGORIAN
METHOD:PUBLISH
X-ORIGINAL-URL:https://swnb.ymca.ca
X-WR-CALDESC:Events for YMCA - Southwestern New Brunswick
REFRESH-INTERVAL;VALUE=DURATION:PT1H
X-Robots-Tag:noindex
X-PUBLISHED-TTL:PT1H
BEGIN:VTIMEZONE
TZID:America/Sao_Paulo
BEGIN:STANDARD
TZOFFSETFROM:-0300
TZOFFSETTO:-0300
TZNAME:-03
DTSTART:20250101T000000
END:STANDARD
END:VTIMEZONE
BEGIN:VEVENT
DTSTART;VALUE=DATE:20260422
DTEND;VALUE=DATE:20260423
DTSTAMP:20260420T131111
CREATED:20260331T191237Z
LAST-MODIFIED:20260408T035045Z
UID:10000068-1776816000-1776902399@swnb.ymca.ca
SUMMARY:I&O: Positive Parenting in Canada
DESCRIPTION:I&O – Positive Parenting in Canada \nJoin us for an informative session led by speakers from Family and Child Education (F.A.C.E.) NB. Learn about the services available to families and gain valuable insights into positive parenting practices in Canada. \nDate: Wednesday\, April 22\, 2026Location: In person at Saint John Regional Y and online via Zoom \nSession Options: \n\nMorning Session: 11:15 a.m. – 12:15 p.m. (In person & online)Register here\nEvening Session: 5:30 p.m. – 6:30 p.m. (In person & online)Register here\n\nAll Information and Orientation sessions are open to everyone\, irrespective of immigration status.
URL:https://swnb.ymca.ca/event/io-positive-parenting-in-canada/
LOCATION:Saint John Regional Y – YMCA of Southwestern New Brunswick\, 191 Churchill Blvd\, Saint John\, New Brunswick\, E2K 3E2\, Canada
ATTACH;FMTTYPE=image/jpeg:https://swnb.ymca.ca/wp-content/uploads/2026/03/Y-logo-no-shineon-feature-image-for-the-website.jpg
END:VEVENT
END:VCALENDAR