BEGIN:VCALENDAR
VERSION:2.0
PRODID:-//YMCA - Southwestern New Brunswick - ECPv6.15.20//NONSGML v1.0//EN
CALSCALE:GREGORIAN
METHOD:PUBLISH
X-ORIGINAL-URL:https://swnb.ymca.ca
X-WR-CALDESC:Events for YMCA - Southwestern New Brunswick
REFRESH-INTERVAL;VALUE=DURATION:PT1H
X-Robots-Tag:noindex
X-PUBLISHED-TTL:PT1H
BEGIN:VTIMEZONE
TZID:America/Sao_Paulo
BEGIN:STANDARD
TZOFFSETFROM:-0300
TZOFFSETTO:-0300
TZNAME:-03
DTSTART:20250101T000000
END:STANDARD
END:VTIMEZONE
BEGIN:VEVENT
DTSTART;VALUE=DATE:20260415
DTEND;VALUE=DATE:20260416
DTSTAMP:20260420T130610
CREATED:20260331T190727Z
LAST-MODIFIED:20260331T190800Z
UID:10000067-1776211200-1776297599@swnb.ymca.ca
SUMMARY:I&O: Introduction to Canadian Elections
DESCRIPTION:I&O: Introduction to Canadian Elections \n\n\n\n\nJoin us for an informative session on how elections work in Canada. This session will cover the different levels of government\, who is eligible to vote\, how elections are conducted\, and why they matter for everyone living in Canada. \nDate: Wednesday\, April 15\, 2026Location: In person at Saint John Regional Y and online via Zoom \nSession Options: \n\nMorning Session: 11:15 a.m. – 12:15 p.m. (In person only at Saint John Regional Y)\nEvening Session: 5:30 p.m. – 6:30 p.m. (In person at Saint John Regional Y & online via Zoom)\n\nRegister for the Evening Session: Here \nAll Information and Orientation sessions are open to everyone\, irrespective of immigration status.
URL:https://swnb.ymca.ca/event/introduction-to-canadian-elections/
LOCATION:Saint John Regional Y – YMCA of Southwestern New Brunswick\, 191 Churchill Blvd\, Saint John\, New Brunswick\, E2K 3E2\, Canada
ATTACH;FMTTYPE=image/jpeg:https://swnb.ymca.ca/wp-content/uploads/2026/03/Y-logo-no-shineon-feature-image-for-the-website.jpg
END:VEVENT
END:VCALENDAR