BEGIN:VCALENDAR
VERSION:2.0
PRODID:-//YMCA - Southwestern New Brunswick - ECPv6.15.20//NONSGML v1.0//EN
CALSCALE:GREGORIAN
METHOD:PUBLISH
X-WR-CALNAME:YMCA - Southwestern New Brunswick
X-ORIGINAL-URL:https://swnb.ymca.ca
X-WR-CALDESC:Events for YMCA - Southwestern New Brunswick
REFRESH-INTERVAL;VALUE=DURATION:PT1H
X-Robots-Tag:noindex
X-PUBLISHED-TTL:PT1H
BEGIN:VTIMEZONE
TZID:America/Sao_Paulo
BEGIN:STANDARD
TZOFFSETFROM:-0300
TZOFFSETTO:-0300
TZNAME:-03
DTSTART:20250101T000000
END:STANDARD
END:VTIMEZONE
BEGIN:VEVENT
DTSTART;VALUE=DATE:20260218
DTEND;VALUE=DATE:20260219
DTSTAMP:20260420T162714
CREATED:20260201T213750Z
LAST-MODIFIED:20260201T213750Z
UID:10000059-1771372800-1771459199@swnb.ymca.ca
SUMMARY:I&O – Canadian Culture and Food
DESCRIPTION:I&O – Canadian Culture and Food\nJoin us for an engaging information session exploring Canadian food culture. Learn how people in Canada shop for and enjoy food throughout the different seasons\, discover traditional Canadian foods\, and get ideas on how you and your family can try and enjoy Canadian food at home. \nDate:Wednesday\, February 18\, 2026 \nSession Options: \nMorning Session🕚 11:15 AM – 12:15 PM📍 In person – Saint John Regional Y\, Classroom 8/9 \nEvening Session🕠 5:30 PM – 6:30 PM📍 Hybrid – Saint John Regional Y\, Classroom 8/9 + Online via Zoom \nRegister TodayAll information and orientation sessions are free and open to everyone.
URL:https://swnb.ymca.ca/event/io-canadian-culture-and-food/
LOCATION:Saint John Regional Y – YMCA of Southwestern New Brunswick\, 191 Churchill Blvd\, Saint John\, New Brunswick\, E2K 3E2\, Canada
ATTACH;FMTTYPE=image/jpeg:https://swnb.ymca.ca/wp-content/uploads/2025/03/NewsFillerImage_whiteY-2.jpg
END:VEVENT
END:VCALENDAR