BEGIN:VCALENDAR
VERSION:2.0
PRODID:-//YMCA - Southwestern New Brunswick - ECPv6.15.20//NONSGML v1.0//EN
CALSCALE:GREGORIAN
METHOD:PUBLISH
X-ORIGINAL-URL:https://swnb.ymca.ca
X-WR-CALDESC:Events for YMCA - Southwestern New Brunswick
REFRESH-INTERVAL;VALUE=DURATION:PT1H
X-Robots-Tag:noindex
X-PUBLISHED-TTL:PT1H
BEGIN:VTIMEZONE
TZID:America/Sao_Paulo
BEGIN:STANDARD
TZOFFSETFROM:-0300
TZOFFSETTO:-0300
TZNAME:-03
DTSTART:20240101T000000
END:STANDARD
END:VTIMEZONE
BEGIN:VEVENT
DTSTART;VALUE=DATE:20251114
DTEND;VALUE=DATE:20251115
DTSTAMP:20260420T204505
CREATED:20251015T174207Z
LAST-MODIFIED:20251015T183831Z
UID:10000037-1763078400-1763164799@swnb.ymca.ca
SUMMARY:Tour: Crane Mountain Landfill visit
DESCRIPTION:Tour: Crane Mountain Landfill ♻️ \nJoin us for an educational visit to the Crane Mountain Landfill Education Centre and discover why it’s important to reduce\, reuse\, and recycle. Learn what happens to our garbage locally and explore simple ways you can help protect our environment. \n📅 Friday\, November 14\, 2025🕙 Morning Session: 10:00 a.m. – 11:30 a.m.🕐 Afternoon Session: 1:00 p.m. – 2:30 p.m.\n📍 Location: 10 Crane Mountain Rd\, Grand Bay–Westfield \nOur Information and Orientation sessions are free and open to everyone\, regardless of immigration status. \nTo register\, please reach out to us at h.yu@saintjohny.ca
URL:https://swnb.ymca.ca/event/tour-crane-mountain-landfill-visit/
LOCATION:Crane Mountain Landfill\, 10 Crane Mountain Rd\, Saint John\, NB\, E2M 7T8\, Canada
ATTACH;FMTTYPE=image/jpeg:https://swnb.ymca.ca/wp-content/uploads/2025/03/NewsFillerImage_whiteY-2.jpg
END:VEVENT
END:VCALENDAR